BEGIN:VCALENDAR
PRODID:-//Calendar export
VERSION:2.0
X-WR-TIMEZONE:Etc/GMT
BEGIN:VTIMEZONE
TZID:GMT Standard Time
BEGIN:STANDARD
TZOFFSETFROM:+0000
TZOFFSETTO:+0000
END:STANDARD
END:VTIMEZONE
BEGIN:VEVENT
UID:AE1074
DTSTAMP:20260419T141200Z
SUMMARY:Neurocritical Care Knowledge Exchange: 2026 Webinar Series 
 Pediatric Brai
 n Death Determination: Aligning Practice\, People\, and Process
CLASS:PUBLIC
DESCRIPTION:
STATUS:CONFIRMED
PRIORITY:1
DTSTART:20260618T190000Z
DTEND:20260618T200000Z
TRANSP:OPAQUE
END:VEVENT
END:VCALENDAR
